BEGIN:VCALENDAR
VERSION:2.0
PRODID:-//ChamberMaster//Event Calendar 2.0//EN
METHOD:PUBLISH
X-PUBLISHED-TTL:P3D
REFRESH-INTERVAL:P3D
CALSCALE:GREGORIAN
BEGIN:VEVENT
DTSTART:20180725T163000Z
DTEND:20180725T183000Z
X-MICROSOFT-CDO-ALLDAYEVENT:FALSE
SUMMARY:Program Committee
DESCRIPTION:Annual planning meeting for setting the educational program for the coming year. Group makes recommendations for seminars\, monthly meetings and brown bag seminars. Attendance is by invitation.
X-ALT-DESC;FMTTYPE=text/html:Annual planning meeting for setting the educational program for the coming year. Group makes recommendations for seminars\, monthly meetings and brown bag seminars. Attendance is by invitation.&nbsp\;
LOCATION:ACEC/MN Conference Room 10201 Wayzata Blvd.\, Suite 240 Minnetonka\, MN 55305
UID:e.9128.1282
SEQUENCE:3
DTSTAMP:20260420T170529Z
URL:https://business.acecmn.org/events/details/program-committee-1282
END:VEVENT

END:VCALENDAR
