BEGIN:VCALENDAR
VERSION:2.0
PRODID:-//ChamberMaster//Event Calendar 2.0//EN
METHOD:PUBLISH
X-PUBLISHED-TTL:P3D
REFRESH-INTERVAL:P3D
CALSCALE:GREGORIAN
BEGIN:VEVENT
DTSTART:20160804T201500Z
DTEND:20160804T213000Z
X-MICROSOFT-CDO-ALLDAYEVENT:FALSE
SUMMARY:Projects\; An Owner's Perspective (A Free Leadership Presentation)
DESCRIPTION:Join the ACEC/MN Emerging Professionals for a FREE Leadership Development Presentation!\n\n\n\nProjects\;  An Owner's Perspective:  This seminar is intended to provide younger engineers and project managers and opportunity to learn first-hand what challenges owners face related to public and private projects and how we as consulting engineers can best support their efforts. Presentations will focus on how owners develop\, manage and execute projects and what expectations are placed on consultant project managers to ensure delivery and the expectations of the owner are met. A location map can be found here.\n\n\n\nTopics may include: initial planning efforts\, asset management\, project funding\, consultant team selection\, relationship with consultant PM\, owner management of projects and consultant teams and more.\n\n\n\nPresenters:\n\nKevin Hansen - City of Columbia Heights Director of Public Works\n\nBeth Engum\, PE - Ramsey County Project Manager\n\nThor Heimdahl\, PE\, SE - Senior Project Manager\, Ericksen Roed & Associates
X-ALT-DESC;FMTTYPE=text/html:<p style="margin: 0.15pt 6.55pt 0.0001pt 6.7pt\;"><span style="font-size:16px\;">Join the&nbsp\;ACEC<span style="line-height: 22.4px\;">/MN Emerging Professionals</span>&nbsp\;for a <u>FREE</u> Leadership Development Presentation!</span></p>\n\n<p style="margin-top:.15pt\;margin-right:6.55pt\;margin-bottom:0in\;margin-left:\n6.7pt\;margin-bottom:.0001pt"><br />\n<span style="font-size:16px\;"><strong><u>Projects\; &nbsp\;An Owner&rsquo\;s Perspective:</u>&nbsp\; </strong>This seminar is intended to provide younger engineers and project managers and opportunity to learn first-hand what challenges owners face related to public and private projects and how we as consulting engineers can best support their efforts. Presentations will focus on how owners develop\, manage and execute projects and what expectations are placed on consultant project managers to ensure delivery and the expectations of the owner are met. A location map can be found <a href="https://chambermaster.blob.core.windows.net/userfiles/UserFiles/chambers/9128/File/Invite_ProjectsAnOwnersPerspective.pdf">here</a>.<br />\n<br />\nTopics may include: initial planning efforts\, asset management\, project funding\, consultant team selection\, relationship with consultant PM\, owner management of projects and consultant teams and more.<br />\n<br />\n<strong>Presenters:</strong><br />\nKevin Hansen - City of Columbia Heights Director of Public Works<br />\nBeth Engum\, PE - Ramsey County Project Manager<br />\nThor Heimdahl\, PE\, SE - <span style="line-height: 20.8px\;">Senior Project </span><span style="line-height: 20.8px\;">Manager\,&nbsp\;</span>Ericksen Roed &amp\; Associates&nbsp\;</span><br />\n<br />\n&nbsp\;</p>\n\n<p align="center" style="margin:0in\;margin-bottom:.0001pt\;text-align:center"><strong><span style="font-size:22.0pt\;font-family:">&nbsp\;</span></strong></p>\n
LOCATION:Columbia Heights Public Library 3939 Central Avenue NE Columbia Heights\, MN 55421 763-706-3690 www.ci.columbia-heights.mn.us
UID:e.9128.1091
SEQUENCE:3
DTSTAMP:20260422T125917Z
URL:https://business.acecmn.org/events/details/projects-an-owner-s-perspective-a-free-leadership-presentation-08-04-2016-1091
END:VEVENT

END:VCALENDAR
