BEGIN:VCALENDAR
VERSION:2.0
PRODID:-//ChamberMaster//Event Calendar 2.0//EN
METHOD:PUBLISH
X-PUBLISHED-TTL:P3D
REFRESH-INTERVAL:P3D
CALSCALE:GREGORIAN
BEGIN:VEVENT
DTSTART:20160509T163000Z
DTEND:20160509T183000Z
X-MICROSOFT-CDO-ALLDAYEVENT:FALSE
SUMMARY:Protecting Your Firm's Payment Rights
DESCRIPTION:We've all heard the adage: if you're failing to plan\, you're planning to fail. Through this seminar\, Jason Tarasek will educate you on how to best prepare for the worst-case scenario: a payment dispute. You will learn the fundamentals of: (1) mechanic's liens\; (2) payment bond claims\; (3) statutory provisions that protect your payment rights\; and (4) common contract clauses that can significantly alter your negotiating leverage in the event of a payment dispute.\n\n \nPresenter: Jason C. Tarasek is a construction attorney at Larkin Hoffman and a member of the ACEC-MN Board of Directors.  For nearly 15 years\, he has advised his clients on matters relating to construction contracts.  As a litigator\, he has learned the contract terms that are the most beneficial for his clients when a dispute arises.
X-ALT-DESC;FMTTYPE=text/html:<span style="font-family:arial\,sans-serif\;">We&rsquo\;ve all heard the adage: if you&rsquo\;re failing to plan\, you&rsquo\;re planning to fail. Through this seminar\, Jason Tarasek will educate you on how to best prepare for the worst-case scenario: a payment dispute. You will learn the fundamentals of: (1) mechanic&rsquo\;s liens\; (2) payment bond claims\; (3) statutory provisions that protect your payment rights\; and (4) common contract clauses that can significantly alter your negotiating leverage in the event of a payment dispute.</span><br />\n&nbsp\;\n<p><span style="font-family:arial\;"><span style="font-size:12px\;"><strong>Presenter:</strong> Jason C. Tarasek is a construction attorney at Larkin Hoffman and a member of the ACEC-MN Board&nbsp\;of Directors.&nbsp\; For nearly 15 years\, he has advised his clients on matters relating to construction contracts.&nbsp\; As a litigator\, he has learned the contract terms that are the most beneficial for his clients when a dispute arises.</span></span></p>\n
LOCATION:Marriott Minneapolis West 9960 Wayzata Blvd\, Minnetonka\, MN (952/544-4400) (Located on the north frontage road of I-394 between Hwy 169 & Hopkins Crossroad directly across from the ACEC/MN office)
UID:e.9128.1084
SEQUENCE:3
DTSTAMP:20260422T221309Z
URL:https://business.acecmn.org/events/details/protecting-your-firm-s-payment-rights-05-09-2016-1084
END:VEVENT

END:VCALENDAR
