BEGIN:VCALENDAR
VERSION:2.0
PRODID:-//ChamberMaster//Event Calendar 2.0//EN
METHOD:PUBLISH
X-PUBLISHED-TTL:P3D
REFRESH-INTERVAL:P3D
CALSCALE:GREGORIAN
BEGIN:VEVENT
DTSTART:20181206T000000Z
DTEND:20181206T030000Z
X-MICROSOFT-CDO-ALLDAYEVENT:FALSE
SUMMARY:Randy Morris Celebration
DESCRIPTION:
X-ALT-DESC;FMTTYPE=text/html:
LOCATION:The Graduate 615 Washington Avenue SE Minneapolis\, MN 55414
UID:e.9128.1319
SEQUENCE:3
DTSTAMP:20260420T045517Z
URL:https://business.acecmn.org/events/details/randy-morris-celebration-1319
END:VEVENT

END:VCALENDAR
