BEGIN:VCALENDAR
VERSION:2.0
PRODID:-//ChamberMaster//Event Calendar 2.0//EN
METHOD:PUBLISH
X-PUBLISHED-TTL:P3D
REFRESH-INTERVAL:P3D
CALSCALE:GREGORIAN
BEGIN:VEVENT
DTSTART:20180420T163000Z
DTEND:20180420T180000Z
X-MICROSOFT-CDO-ALLDAYEVENT:FALSE
SUMMARY:Red Wing Bridge Drilled Shafts (Technique Shaft Construction)
DESCRIPTION:This presentation will discuss unique aspects of the construction of the new Red Wing Bridge including the use of large diameter cased drilled shafts with rock sockets to support the primary piers.\n\n\n\nThe specifications for this project required the contractor to incorporate Mass Concrete\, SCC Mix\, Trial Placement\, Thermal Modeling\, and a Technique Shaft be completed prior to construction.\n\n\n\nThe Red Wing Bridge project is located along Highway 63 crossing the Mississippi River between Minnesota and Wisconsin. The project of this challenging endeavor consists of a series of new bridges with the largest span crossing the navigable channel. \n\n \n\nSpeakers: \n\nAllie Brady is a Project Manager for VEIT. She is graduate of NDSU in civil Engineering. She interned at Kewit and VEIT before deciding to work in the geotechnical construction industry with VEIT.\n\n \n\nNate Iverson\, PE\, VEIT's Chief Foundation Engineer\, is a registered professional engineer and a project manager at VEIT. Nate has 16 years of experience in implementation and design of many types of specialized foundations.
X-ALT-DESC;FMTTYPE=text/html:<span style="font-size:14px\;"><span style="color:black\;"><span style="font-family:arial\,sans-serif\;">This presentation will discuss unique aspects of the construction of the new Red Wing Bridge including the use of large diameter cased drilled shafts with rock sockets to support the primary piers.<br />\n<br />\nThe specifications for this project required the contractor to incorporate Mass Concrete\, SCC Mix\, Trial Placement\, Thermal Modeling\, and a Technique Shaft be completed prior to construction.<br />\n<br />\nThe Red Wing Bridge project is located along Highway 63 crossing the Mississippi River between Minnesota and Wisconsin. The project of this challenging endeavor consists of a series of new bridges with the largest span crossing the navigable channel. </span></span><br />\n&nbsp\;<br />\n<strong><span style="font-family:arial\,sans-serif\;">Speakers: </span></strong><br />\n<span style="font-family:arial\,sans-serif\;">Allie Brady is a Project Manager for VEIT. She is graduate of NDSU in civil Engineering. She interned at Kewit and VEIT before deciding to work in the geotechnical construction industry with </span></span><span style="font-family: arial\, sans-serif\; font-size: 14px\;">VEIT</span><span style="font-size:14px\;"><span style="font-family:arial\,sans-serif\;">.</span><br />\n&nbsp\;<br />\n<span style="font-family:arial\,sans-serif\;">Nate Iverson\, PE\, </span></span><span style="font-family: arial\, sans-serif\; font-size: 14px\;">VEIT</span><span style="font-size:14px\;"><span style="font-family:arial\,sans-serif\;">&rsquo\;s Chief Foundation Engineer\, is a registered professional engineer and a project manager at </span></span><span style="font-family: arial\, sans-serif\; font-size: 14px\;">VEIT</span><span style="font-size:14px\;"><span style="font-family:arial\,sans-serif\;">. Nate has 16 years of experience in implementation and design of many types of specialized foundations. </span></span>
LOCATION:Marriott Minneapolis West 9960 Wayzata Blvd\, MN Minnetonka (952/544-4400) (Located on the north frontage road of I-394 between Hwy 169 & Hopkins Crossroad directly across from the ACEC/MN office)
UID:e.9128.1276
SEQUENCE:3
DTSTAMP:20260420T222831Z
URL:https://business.acecmn.org/events/details/red-wing-bridge-drilled-shafts-technique-shaft-construction-1276
END:VEVENT

END:VCALENDAR
