BEGIN:VCALENDAR
VERSION:2.0
PRODID:-//ChamberMaster//Event Calendar 2.0//EN
METHOD:PUBLISH
X-PUBLISHED-TTL:P3D
REFRESH-INTERVAL:P3D
CALSCALE:GREGORIAN
BEGIN:VEVENT
DTSTART:20180816T170000Z
DTEND:20180816T183000Z
X-MICROSOFT-CDO-ALLDAYEVENT:FALSE
SUMMARY:Scholarship Committee Meeting
DESCRIPTION:Meeting of the Scholarship Committee which coordinates ACEC/MN scholarship program   develop award criteria\, conduct interviews and award scholarships.
X-ALT-DESC;FMTTYPE=text/html:<span style="font-family:arial\;"><span style="font-size:10.0pt\;">Meeting of the Scholarship Committee which coordinates&nbsp\;ACEC/MN scholarship program &ndash\; develop award criteria\, conduct interviews and award scholarships.</span></span>
LOCATION:ACEC/MN Conference Room 10201 Wayzata Blvd.\, Suite 240 Minnetonka\, MN 55305
UID:e.9128.1284
SEQUENCE:3
DTSTAMP:20260420T151414Z
URL:https://business.acecmn.org/events/details/scholarship-committee-meeting-1284
END:VEVENT

END:VCALENDAR
