BEGIN:VCALENDAR
VERSION:2.0
PRODID:-//ChamberMaster//Event Calendar 2.0//EN
METHOD:PUBLISH
X-PUBLISHED-TTL:P3D
REFRESH-INTERVAL:P3D
CALSCALE:GREGORIAN
BEGIN:VEVENT
DTSTART:20140303T173000Z
DTEND:20140303T193000Z
X-MICROSOFT-CDO-ALLDAYEVENT:FALSE
SUMMARY:Showcase Your Firm's Technical Excellence With Twitter
DESCRIPTION:The use of Twitter for online marketing has been hit or miss in the AEC industry. Many public entities\, including departments of transportation\, have taken to using Twitter to keep people informed about construction projects\, road closures and weather-related traffic conditions. Some AEC firms have found it to be a valuable platform to showcase projects\, the expertise of their people or attract media interest\, but far more firms haven't found a workable strategy for Twitter.\n\nIn this session\, social media expert Rachel Gold from Ingenuity Marketing Group will present a few distinct strategies and case studies for engineering firms who want to have a stronger Twitter presence. We'll explore the pros and cons of each. To help attendees really get a feel for how Twitter works\, we'll hold an interactive scavenger hunt that requires attendees to use Twitter to find the scavenger hunt items both online and offline. Playing the game will help attendees understand hashtags\, searching Twitter\, re-Tweeting\, direct messaging through Twitter and more. Attendees will learn:\n\n\n	\n		 How to choose a strategy that matches their firm's culture and capabilities\n	\n		 How to measure what's working and what isn't\n	\n		 Tactics used by from firms who have a strong Twitter presence\n	\n		 How to integrate Twitter with other features of your online marketing \n\n\n	Presenter: Rachel Gold spent seven years as a reporter\, ten years in public relations\, and holds a Master of Fine Arts in Writing degree. She worked as the senior reporter for a weekly newspaper with a readership of up to 100\,000. She also served as a PR manager for a $60 million tech company whose reach extended to Europe\, Asia and Australia. A self-described geek\, Rachel is an early adopter of all things technical and an avid fan of marketing research that demonstrates results.
X-ALT-DESC;FMTTYPE=text/html:<span style="font-family:arial\,sans-serif\;">The use of Twitter for online marketing has been hit or miss in the AEC industry. Many public entities\, including departments of transportation\, have taken to using Twitter to keep people informed about construction projects\, road closures and weather-related traffic conditions. Some AEC firms have found it to be a valuable platform to showcase projects\, the expertise of their people or attract media interest\, but far more firms haven&rsquo\;t found a workable strategy for Twitter.</span><br />\n<span style="font-family:arial\,sans-serif\;">In this session\, social media </span><span style="font-family:arial\,sans-serif\;">expert Rachel Gold from Ingenuity Marketing Group</span> <span style="font-family:arial\,sans-serif\;">will present a few distinct strategies and case studies for engineering firms who want to have a stronger Twitter presence. We&rsquo\;ll explore the pros and cons of each. </span><span style="font-family:arial\,sans-serif\;">To help attendees really get a feel for how Twitter works\, we&rsquo\;ll hold an interactive scavenger hunt that requires attendees to use Twitter to find the scavenger hunt items both online and offline. Playing the game will help attendees understand hashtags\, searching Twitter\, re-Tweeting\, direct messaging through Twitter and more. </span><span style="font-family:arial\,sans-serif\;">Attendees will learn:</span><br />\n<ul>\n	<li style="margin-top:0in\;margin-right:0in\;margin-bottom:0in\;margin-bottom:.0001pt\;text-autospace:none\;">\n		<span style="font-family:arial\,sans-serif\;">&nbsp\;How to choose a strategy that matches their firm&rsquo\;s culture and capabilities</span></li>\n	<li style="margin-bottom:0in\;margin-bottom:.0001pt\;text-autospace:none\;">\n		<span style="font-family:arial\,sans-serif\;">&nbsp\;How to measure what&rsquo\;s working and what isn&rsquo\;t</span></li>\n	<li style="margin-top:0in\;margin-right:0in\;margin-bottom:0in\;margin-bottom:.0001pt\;text-autospace:none\;">\n		<span style="font-family:arial\,sans-serif\;">&nbsp\;Tactics used by from firms who have a strong Twitter presence</span></li>\n	<li style="margin-top:0in\;margin-right:0in\;margin-bottom:0in\;margin-bottom:.0001pt\;text-autospace:none\;">\n		<span style="font-family:arial\,sans-serif\;">&nbsp\;How to integrate Twitter with other features of your online marketing </span></li>\n</ul>\n<div style="margin-top: 0in\; margin-right: 0in\; margin-bottom: 0.0001pt\;">\n	<span style="font-family:arial\,sans-serif\;"><strong><span style="color:black\;"><span style="font-family:arial\,sans-serif\;">Presenter: </span></span></strong><em><span style="color:black\;"><span style="font-family:arial\,sans-serif\;">Rachel Gold spent seven years as a reporter\, ten years in public relations\, and holds a Master of Fine Arts in Writing degree. She worked as the senior reporter for a weekly newspaper with a readership of up to 100\,000. She also served as a PR manager for a $60 million tech company whose reach extended to Europe\, Asia and Australia. A self-described geek\, Rachel is an early adopter of all things technical and an avid fan of marketing research that demonstrates results.</span></span></em></span><br />\n	&nbsp\;</div>\n
LOCATION:Marriott Minneapolis West 9960 Wayzata Blvd\, Minnetonka\, MN (952/544-4400) (Located on the north frontage road of I-394 between Hwy 169 & Hopkins Crossroad directly across from the ACEC/MN office)
UID:e.9128.853
SEQUENCE:3
DTSTAMP:20260425T011302Z
URL:https://business.acecmn.org/events/details/showcase-your-firm-s-technical-excellence-with-twitter-03-03-2014-853
END:VEVENT

END:VCALENDAR
