BEGIN:VCALENDAR
VERSION:2.0
PRODID:-//ChamberMaster//Event Calendar 2.0//EN
METHOD:PUBLISH
X-PUBLISHED-TTL:P3D
REFRESH-INTERVAL:P3D
CALSCALE:GREGORIAN
BEGIN:VEVENT
DTSTART:20150116T173000Z
DTEND:20150116T190000Z
X-MICROSOFT-CDO-ALLDAYEVENT:FALSE
SUMMARY:Simpson Strong-Tie Composite Strengthening Systems
DESCRIPTION:Retrofit and Repair of Structural Members Using Externally-Bonded Composite Strengthening Systems\n\nSimpson Strong-Tie  recently introduced its externally-bonded Composite Strengthening Systems  (CSS) for reinforcement of existing structural members. For over two decades\, these fiber-reinforced polymer (FRP) systems have been used to retrofit and rehabilitate elements in buildings\, bridges\, parking garages\, chimneys\, piers/wharfs\, tunnels\, tanks/silos\, and pipelines. With their high strength/stiffness to weight ratio\, low impact\, and speed of installation\, these products offer cost-effective alternative strengthening solutions when compared against traditional options. While the use of these materials in the construction community is becoming more common\, there are still many engineers\, contractors\, and owners seeking additional information about them. This presentation will be focused on the following topics: \n\n\n	System Products\n	Material Properties and Advantages\n	Potential Uses\n	Structural Design and Important Considerations\n	Installation Procedures\n	Quality Control and Assurance\n	No-cost Technical Services\n\n\nSpeaker: Michael McCullagh is a registered professional engineer in the state of California and has spent his last 6 years working in the externally bonded composite strengthening system industry. He has a structural engineering degree from the University of California\, San Diego and has represented two FRP system manufacturers and an FRP system installation contractor during his professional career. He now serves as a Composite Strengthening Systems Engineer at Simpson Strong-Tie\, assisting engineers\, contractors\, and owners with feasibility studies\, budget estimates\, specifications\, drawing details\, and design calculations.
X-ALT-DESC;FMTTYPE=text/html:<div style="text-align: center\;"><br />\n<strong>Retrofit and Repair of Structural Members Using Externally-Bonded Composite Strengthening Systems</strong></div>\n\n<p><span style="font-size:12px\;"><span style="font-weight: normal\;">Simpson Strong-Tie&reg\; recently introduced its externally-bonded Composite Strengthening Systems&trade\; (CSS) for reinforcement of existing structural members. For over two decades\, these fiber-reinforced polymer (FRP) systems have been used to retrofit and rehabilitate elements in buildings\, bridges\, parking garages\, chimneys\, piers/wharfs\, tunnels\, tanks/silos\, and pipelines. With their high strength/stiffness to weight ratio\, low impact\, and speed of installation\, these products offer cost-effective alternative strengthening solutions when compared against traditional options. While the use of these materials in the construction community is becoming more common\, there are still many engineers\, contractors\, and owners seeking additional information about them. This presentation will be focused on the following topics:</span> </span></p>\n\n<ul>\n	<li><span style="font-size:12px\;"><span style="font-family: arial\,sans-serif\;">System Products</span></span></li>\n	<li><span style="font-size:12px\;"><span style="font-family: arial\,sans-serif\;">Material Properties and Advantages</span></span></li>\n	<li><span style="font-size:12px\;"><span style="font-family: arial\,sans-serif\;">Potential Uses</span></span></li>\n	<li><span style="font-size:12px\;"><span style="font-family: arial\,sans-serif\;">Structural Design and Important Considerations</span></span></li>\n	<li><span style="font-size:12px\;"><span style="font-family: arial\,sans-serif\;">Installation Procedures</span></span></li>\n	<li><span style="font-size:12px\;"><span style="font-family: arial\,sans-serif\;">Quality Control and Assurance</span></span></li>\n	<li><span style="font-size:12px\;"><span style="font-family: arial\,sans-serif\;">No-cost Technical Services</span></span></li>\n</ul>\n\n<p><strong><span style="font-family:arial\,sans-serif\;"><span style="font-size:10.0pt\;">Speaker: </span></span></strong><span style="font-family:arial\,sans-serif\;"><span style="font-size:10.0pt\;">Michael McCullagh is a registered professional engineer in the state of California and has spent his last 6 years working in the externally bonded composite strengthening system industry. He has a structural engineering degree from the University of California\, San Diego and has represented two FRP system manufacturers and an FRP system installation contractor during his professional career. He now serves as a Composite Strengthening Systems Engineer at Simpson Strong-Tie\, assisting engineers\, contractors\, and owners with feasibility studies\, budget estimates\, specifications\, drawing details\, and design calculations.</span></span></p>\n
LOCATION:LOCATION: Marriott Minneapolis West 9960 Wayzata Blvd\, MN Minnetonka (952/544-4400) (Located on the north frontage road of I-394 between Hwy 169 & Hopkins Crossroad directly across from the ACEC/MN office)
UID:e.9128.902
SEQUENCE:3
DTSTAMP:20260424T054036Z
URL:https://business.acecmn.org/events/details/simpson-strong-tie-composite-strengthening-systems-01-16-2015-902
END:VEVENT

END:VCALENDAR
