BEGIN:VCALENDAR
VERSION:2.0
PRODID:-//ChamberMaster//Event Calendar 2.0//EN
METHOD:PUBLISH
X-PUBLISHED-TTL:P3D
REFRESH-INTERVAL:P3D
CALSCALE:GREGORIAN
BEGIN:VEVENT
DTSTART:20170113T173000Z
DTEND:20170113T190000Z
X-MICROSOFT-CDO-ALLDAYEVENT:FALSE
SUMMARY:Steel Reinforced Polyethylene Sanitary and Wet Weather Infrastructure
DESCRIPTION:Steel Reinforced Polyethylene Pipe has been successfully used in Minnesota for storm sewer\, storm water detention\, and rain water harvesting applications. Across the US\, Steel Reinforced Polyethylene Pipe is also used for sanitary sewers\, emergency storage\, CSO/SSO storage\, wet wells and to rehabilitate existing pipes. Come learn how engineers have been able to reduce construction time and costs while creating long lasting\, durable sanitary sewage systems.  \n\n \n\nThis presentation will be focused on the following topics:\n\n\n	Case studies in the following applications: Sanitary sewer\, emergency storage\, yard piping\, reline and rehabilitation.\n	Structural design considerations\n	Hydraulic design considerations\n	Jointing considerations\n	Installation and repairs\n	Design life\n\nSpeaker: Rian McCaslin is the DuroMaxx Western Area Manager for CONTECH Engineered Solutions. Rian has been with CONTECH since 1997 and has experience in various positions including sales\, marketing\, manufacturing and management. Rian received his BS in Civil Engineering from North Dakota State University in Fargo\, North Dakota.
X-ALT-DESC;FMTTYPE=text/html:<span style="font-family:arial\,sans-serif\;"><span style="font-size:10.0pt\;">Steel Reinforced Polyethylene Pipe has been successfully used in Minnesota for storm sewer\, storm water detention\, and rain water harvesting applications.&nbsp\;Across the US\, Steel Reinforced Polyethylene Pipe is also used for sanitary sewers\, emergency storage\, CSO/SSO storage\, wet wells and to rehabilitate existing pipes. Come learn how engineers have been able to reduce construction time and costs while creating long lasting\, durable sanitary sewage systems.&nbsp\; </span></span><br />\n&nbsp\;<br />\n<span style="font-family:arial\,sans-serif\;"><span style="font-size:10.0pt\;">This presentation will be focused on the following topics:</span></span>\n\n<ul>\n	<li><span style="font-family:arial\,sans-serif\;"><span style="font-size:10.0pt\;">Case studies in the following applications: Sanitary sewer\, emergency storage\, yard piping\, reline and rehabilitation.</span></span></li>\n	<li><span style="font-family:arial\,sans-serif\;"><span style="font-size:10.0pt\;">Structural design considerations</span></span></li>\n	<li><span style="font-family:arial\,sans-serif\;"><span style="font-size:10.0pt\;">Hydraulic design considerations</span></span></li>\n	<li><span style="font-family:arial\,sans-serif\;"><span style="font-size:10.0pt\;">Jointing considerations</span></span></li>\n	<li><span style="font-family:arial\,sans-serif\;"><span style="font-size:10.0pt\;">Installation and repairs</span></span></li>\n	<li><span style="font-family:arial\,sans-serif\;"><span style="font-size:10.0pt\;">Design life</span></span></li>\n</ul>\n<strong><span style="font-family:arial\,sans-serif\;"><span style="font-size:10.0pt\;">Speaker: </span></span></strong><span style="font-family:arial\,sans-serif\;"><span style="font-size:10.0pt\;">Rian McCaslin is the DuroMaxx Western Area Manager for CONTECH Engineered Solutions. Rian has been with CONTECH since 1997 and has experience in various positions including sales\, marketing\, manufacturing and management.&nbsp\;Rian received his BS in Civil Engineering from North Dakota State University in Fargo\, North Dakota.&nbsp\;</span></span>
LOCATION:Marriott Minneapolis West 9960 Wayzata Blvd\, MN Minnetonka (952/544-4400) (Located on the north frontage road of I-394 between Hwy 169 & Hopkins Crossroad directly across from the ACEC/MN office)
UID:e.9128.1118
SEQUENCE:3
DTSTAMP:20260422T041528Z
URL:https://business.acecmn.org/events/details/steel-reinforced-polyethylene-sanitary-and-wet-weather-infrastructure-1118
END:VEVENT

END:VCALENDAR
