BEGIN:VCALENDAR
VERSION:2.0
PRODID:-//ChamberMaster//Event Calendar 2.0//EN
METHOD:PUBLISH
X-PUBLISHED-TTL:P3D
REFRESH-INTERVAL:P3D
CALSCALE:GREGORIAN
BEGIN:VEVENT
DTSTART:20160404T163000Z
DTEND:20160404T190000Z
X-MICROSOFT-CDO-ALLDAYEVENT:FALSE
SUMMARY:Symbiotic Partnership for Success: Agencies\, Prime Consultants\, and Small Businesses
DESCRIPTION:Come join us to explore opportunities with Mn/DOT\, MetCouncil\, Metropolitan Airports Commission\, prime consultants\, and SBE/DBE/Targeted Business Group. Through case studies learn about symbiotic partnerships that benefit agencies\, primes\, and small businesses. Our panel will discuss and the group will be encouraged to brainstorm strategies that overcome hurdles to achieve desired project objectives. Hear about upcoming opportunities and network with agencies\, primes\, and small businesses.  \n\n\n\nModerator: Brad Hamilton\, MnDOT Consultant Liaison\n\nPanel: Paul Danielson\, PE.\, Vice President Kimley-Horn\; Sirish Samba\, PE.\, President & CEO Sambatek\; Rick Biddle\, Contracts & Grants Manager MAC\; Wanda Kirkpatrick\, Director\, Metropolitan Council Director of Diversity.
X-ALT-DESC;FMTTYPE=text/html:<span style="font-family:arial\,sans-serif\;">Come join us to explore opportunities with Mn/DOT\, MetCouncil\, Metropolitan Airports Commission\, prime consultants\, and SBE/DBE/Targeted Business Group. Through case studies learn about symbiotic partnerships that benefit agencies\, primes\, and small businesses. Our panel will discuss and the group will be encouraged to brainstorm strategies that overcome hurdles to achieve desired project objectives. Hear about upcoming opportunities and network with agencies\, primes\, and small businesses.&nbsp\; </span><br />\n<br />\n<strong><span style="color:black\;"><span style="font-family:arial\,sans-serif\;">Moderator: Brad Hamilton\, MnDOT Consultant Liaison</span></span></strong><br />\n<strong><span style="color:black\;"><span style="font-family:arial\,sans-serif\;">Panel: Paul Danielson\, PE.\, Vice President Kimley-Horn\; Sirish Samba\, PE.\, President &amp\; CEO Sambatek\; </span></span></strong><strong><span style="color:black\;"><span style="font-family:arial\,sans-serif\;">Rick Biddle\, Contracts &amp\; Grants Manager MAC\; Wanda Kirkpatrick\, Director\, </span></span></strong><strong><span style="color:black\;"><span style="font-family:arial\,sans-serif\;">Metropolitan Council Director of Diversity</span></span></strong><strong><span style="color:black\;"><span style="font-family:arial\,sans-serif\;">. &nbsp\;</span></span></strong>
LOCATION:Marriott Minneapolis West 9960 Wayzata Blvd\, Minnetonka\, MN (952/544-4400) (Located on the north frontage road of I-394 between Hwy 169 & Hopkins Crossroad directly across from the ACEC/MN office)
UID:e.9128.1078
SEQUENCE:3
DTSTAMP:20260423T011822Z
URL:https://business.acecmn.org/events/details/symbiotic-partnership-for-success-agencies-prime-consultants-and-small-businesses-04-04-2016-1078
END:VEVENT

END:VCALENDAR
