BEGIN:VCALENDAR
VERSION:2.0
PRODID:-//ChamberMaster//Event Calendar 2.0//EN
METHOD:PUBLISH
X-PUBLISHED-TTL:P3D
REFRESH-INTERVAL:P3D
CALSCALE:GREGORIAN
BEGIN:VEVENT
DTSTART:20160122T173000Z
DTEND:20160122T193000Z
X-MICROSOFT-CDO-ALLDAYEVENT:FALSE
SUMMARY:The "Rigid" Side of Geopier Ground Improvement
DESCRIPTION:There are instances where projects will benefit from ground improvement with a rigid admixture or confining material.  Your poor soils may be too soft or the loads just too high for crushed aggregate alone.  \n\n \n\nYou will learn about the Geopier technologies that use rigid confining materials to increase load-carrying capacity\; your local Twin Cities Geopier engineer will walk you through these techniques so that you can design and build normal foundations\, floor slabs\, embankments\, etc. with confidence.\n\n \n\n Speaker(s):  Charles Allgood\, P.E.\, LEED AP   Principal with Ground Improvement Engineering \n\n \n\n  This program is free to ACEC/MN members \n\nLunch is being provided by Ground Improvement Engineering
X-ALT-DESC;FMTTYPE=text/html:<span style="font-size:14px\;"><span style="font-family:arial\,sans-serif\;">There are instances where projects will benefit from ground improvement with a rigid admixture or confining material.&nbsp\; Your poor soils may be too soft or the loads just too high for crushed aggregate alone.&nbsp\; </span><br />\n&nbsp\;<br />\n<span style="font-family:arial\,sans-serif\;">You will learn about the Geopier technologies that use rigid confining materials to increase load-carrying capacity\; your local Twin Cities Geopier engineer will walk you through these techniques so that you can design and build normal foundations\, floor slabs\, embankments\, etc. with confidence.</span><br />\n&nbsp\;<br />\n&nbsp\;<strong><span style="font-family:arial\,sans-serif\;">Speaker(s):</span></strong>&nbsp\; <strong><span style="font-family:arial\,sans-serif\;">Charles Allgood\, P.E.\, LEED AP &ndash\; Principal with Ground Improvement Engineering </span></strong><br />\n&nbsp\;<br />\n<strong><span style="font-family:arial\,sans-serif\;">&ndash\; This program is free to ACEC/MN members&ndash\;</span></strong></span>\n\n<h6 align="center" style="text-align:center\;"><span style="font-size:14px\;">Lunch is being provided by Ground Improvement Engineering</span></h6>\n
LOCATION:Location: Marriott Minneapolis West 9960 Wayzata Blvd\, MN Minnetonka (952/544-4400) (Located on the north frontage road of I-394 between Hwy 169 & Hopkins Crossroad directly across from the ACEC/MN office)
UID:e.9128.1067
SEQUENCE:3
DTSTAMP:20260423T102401Z
URL:https://business.acecmn.org/events/details/the-rigid-side-of-geopier-ground-improvement-01-22-2016-1067
END:VEVENT

END:VCALENDAR
