BEGIN:VCALENDAR
VERSION:2.0
PRODID:-//ChamberMaster//Event Calendar 2.0//EN
METHOD:PUBLISH
X-PUBLISHED-TTL:P3D
REFRESH-INTERVAL:P3D
CALSCALE:GREGORIAN
BEGIN:VEVENT
DTSTART:20171204T173000Z
DTEND:20171204T200000Z
X-MICROSOFT-CDO-ALLDAYEVENT:FALSE
SUMMARY:The Year of Engagement: National Executive Discussion
DESCRIPTION:How are firms adapting to today's technology\, economic and social issues? The practice of consulting engineering is a continuously evolving process. Advances in technology\, economic challenges\, delivery methods\, client expectations\, and rethinking workplaces are just a few of the things that successful firms must be aware of. So how do you adapt and remain viable in today's market place?\n\n\n\nOur national panel will be discussing their outlook for the future and how they are preparing their firms to meet these challenges. Our moderator will walk the executives through the profound changes that are transforming our profession\, and get their valuable opinions on what is happening in the industry.\n\n\n\nNational Executive Panel\; AECOM\, Matthew J. Crane\, Dir. of Operations\, Americas DCS\, Midwest Region\; Burns and McDonnell\, Paul Fischer\, President and General Manager of Burns & McDonnell's Regional Office Group\; EMCS Inc.\, Rose Morgan\, President and Owner\; Hanson\, Joan C. Freitag\, Federal Services Principal\, Senior Vice President\n\n\n\nModerated by\;  Bret Weiss\, President/CEO of WSB & Associates
X-ALT-DESC;FMTTYPE=text/html:<span style="font-family:arial\,sans-serif\;">How are firms adapting to today&rsquo\;s technology\, economic and social issues? The practice of consulting engineering is a continuously evolving process. Advances in technology\, economic challenges\, delivery methods\, client expectations\, and rethinking workplaces are just a few of the things that successful firms must be aware of. So how do you adapt and remain viable in today&rsquo\;s market place?<br />\n<br />\nOur national panel will be discussing their outlook for the future and how they are preparing their firms to meet these challenges.&nbsp\;Our moderator will walk the executives through the profound changes that are transforming our profession\, and get their valuable opinions on what is happening in the industry.</span><br />\n<br />\n<strong><span style="font-family:arial\,sans-serif\;">National Executive Panel</span></strong><span style="font-family:arial\,sans-serif\;">\; AECOM\, <span style="color:black\;">Matthew J. Crane\, Dir. of Operations\, Americas DCS\, Midwest Region\; </span>Burns and McDonnell\, Paul Fischer\, </span><span style="font-family:arial\,sans-serif\;">President and General Manager of Burns &amp\; McDonnell&rsquo\;s Regional Office Group\; EMCS Inc.\, Rose Morgan\, President and Owner\; Hanson\, </span><span style="color:black\;"><span style="font-family:arial\,sans-serif\;">Joan C. Freitag\, Federal Services Principal\, Senior Vice President</span></span><br />\n<br />\n<strong><span style="font-family:arial\,sans-serif\;">Moderated by</span></strong><span style="font-family:arial\,sans-serif\;">\;&nbsp\; Bret Weiss\, President/CEO of <a href="http://www.wsbeng.com/">WSB &amp\; Associates</a></span>
LOCATION:Marriott Minneapolis West 9960 Wayzata Blvd.\, Minnetonka\, MN (952/544-4400) (Located on the north frontage road of I-394 between Hwy 169 & Hopkins Crossroad directly across from the ACEC/MN office)
UID:e.9128.1247
SEQUENCE:3
DTSTAMP:20260421T050336Z
URL:https://business.acecmn.org/events/details/the-year-of-engagement-national-executive-discussion-1247
END:VEVENT

END:VCALENDAR
