BEGIN:VCALENDAR
VERSION:2.0
PRODID:-//ChamberMaster//Event Calendar 2.0//EN
METHOD:PUBLISH
X-PUBLISHED-TTL:P3D
REFRESH-INTERVAL:P3D
CALSCALE:GREGORIAN
BEGIN:VEVENT
DTSTART:20161214T133000Z
DTEND:20161214T153000Z
X-MICROSOFT-CDO-ALLDAYEVENT:FALSE
SUMMARY:Too Busy To Sell: 7 Reasons Your Team Isn't Selling\, And What You Can Do About It
DESCRIPTION:One of the biggest challenges of running a professional service firm is getting your team to juggle. Business development falls away when team members get busy with current work. Then\, when the work ends\, there's nothing in the pipeline\, and everyone remembers how important it is to sell.\n\n \n\nNo one is better positioned to build your business than your professional staff   especially when they're in the thick of a job\, working closely with clients\, prospects\, and strategic partners. They're so often in the right place at the right time to create opportunities for future work\, but too often they miss out on those opportunities. And as a leader\, it can be difficult to know what to say or do to help them be more effective.\n\n \n\nPete Machalek of SagePresence\, a born facilitator\, expertly converts "push" to "pull\," creating environments that align teams for action. Pete teaches concise\, intentional communication\, leveraging simple tools that are easy to use. \n\n\n\nPete will draw from his experience in elevating skills for business development to shed light on what's getting in the way of your doers to keep them from selling more effectively\, and offer some tips on what you and your leadership team can do to move your team to its next level of effectiveness.\n\n \n\nTake-aways:\n\n\n	A clear understanding of what is holding your team back.\n	A new sense of what is possible for you\, your team\, and your whole company.\n	An action plan for getting the whole team more engaged in the business development process.
X-ALT-DESC;FMTTYPE=text/html:<p><span style="font-family:arial\,sans-serif\;">One of the biggest challenges of running a professional service firm is getting your team to juggle. Business development falls away when team members get busy with current work. Then\, when the work ends\, there&rsquo\;s nothing in the pipeline\, and everyone remembers how important it is to sell.</span><br />\n&nbsp\;<br />\n<span style="font-family:arial\,sans-serif\;">No one is better positioned to build your business than your professional staff &ndash\; especially when they&rsquo\;re in the thick of a job\, working closely with clients\, prospects\, and strategic partners. They&rsquo\;re so often in the right place at the right time to create opportunities for future work\, but too often they miss out on those opportunities. And as a leader\, it can be difficult to know what to say or do to help them be more effective.</span><br />\n&nbsp\;<br />\n<span style="font-family:arial\,sans-serif\;"><strong>Pete Machalek&nbsp\;of SagePresence\,</strong> a born facilitator\, expertly converts &quot\;push&quot\; to &quot\;pull\,&quot\; creating environments that align teams for action. Pete teaches concise\, intentional communication\, leveraging simple tools that are easy to use.</span><span style="color: rgb(128\, 128\, 128)\; font-family: &quot\;Droid Sans&quot\;\, sans-serif\; font-size: 14px\;">&nbsp\;</span><br />\n<br />\n<span style="font-family:arial\,sans-serif\;">Pete will draw from his experience in elevating skills for business development to shed light on what&rsquo\;s getting in the way of your doers to keep them from selling more effectively\, and offer some tips on what you and your leadership team can do to move your team to its next level of effectiveness.</span><br />\n&nbsp\;<br />\n<span style="font-family:arial\,sans-serif\;">Take-aways:</span></p>\n\n<ul>\n	<li style="text-autospace:none\;"><span style="font-family:arial\,sans-serif\;">A clear understanding of what is holding your team back.</span></li>\n	<li style="text-autospace:none\;"><span style="font-family:arial\,sans-serif\;">A new sense of what is possible for you\, your team\, and your whole company.</span></li>\n	<li style="text-autospace:none\;"><span style="font-family:arial\,sans-serif\;">An action plan for getting the whole team more engaged in the business development process</span><span style="font-family:optima\;">.</span></li>\n</ul>\n
LOCATION:Marriott Minneapolis West 9960 Wayzata Blvd\, Minnetonka\, MN (952/544-4000) (Located on north frontage road of I-394 between Hwy 169 & Hopkins Crossroad)
UID:e.9128.1108
SEQUENCE:3
DTSTAMP:20260422T055147Z
URL:https://business.acecmn.org/events/details/too-busy-to-sell-7-reasons-your-team-isn-t-selling-and-what-you-can-do-about-it-1108
END:VEVENT

END:VCALENDAR
