BEGIN:VCALENDAR
VERSION:2.0
PRODID:-//ChamberMaster//Event Calendar 2.0//EN
METHOD:PUBLISH
X-PUBLISHED-TTL:P3D
REFRESH-INTERVAL:P3D
CALSCALE:GREGORIAN
BEGIN:VEVENT
DTSTART:20140227T180000Z
DTEND:20140227T193000Z
X-MICROSOFT-CDO-ALLDAYEVENT:FALSE
SUMMARY:Transportation Committee
DESCRIPTION:
X-ALT-DESC;FMTTYPE=text/html:
LOCATION:ACEC/MN Office 10201 Wayzata Blvd.\, Suite 240 Minnetonka\, MN 55305 952-593-5533
UID:e.9128.854
SEQUENCE:3
DTSTAMP:20260425T035457Z
URL:https://business.acecmn.org/events/details/transportation-committee-02-27-2014-854
END:VEVENT

END:VCALENDAR
