BEGIN:VCALENDAR
VERSION:2.0
PRODID:-//ChamberMaster//Event Calendar 2.0//EN
METHOD:PUBLISH
X-PUBLISHED-TTL:P3D
REFRESH-INTERVAL:P3D
CALSCALE:GREGORIAN
BEGIN:VEVENT
DTSTART:20170517T000000Z
DTEND:20170517T030000Z
X-MICROSOFT-CDO-ALLDAYEVENT:FALSE
SUMMARY:Twins Game - ASCE Younger Member - ACEC Emerging Professionals Event
DESCRIPTION:Join the ACEC/MN Emerging Professionals and the ASCE Younger Members for an evening of Twins baseball and networking! \n\n\n\nClick here to register.
X-ALT-DESC;FMTTYPE=text/html:Join the ACEC/MN Emerging Professionals and the ASCE Younger Members for an evening of Twins baseball and networking!&nbsp\;<br />\n<br />\nClick <a href="https://events.r20.constantcontact.com/register/eventReg?oeidk=a07edwz3s7jea07b3d2&amp\;oseq=&amp\;c=&amp\;ch">here</a> to register.
LOCATION:Target Field 353 N 5th Street Minneapolis\, MN 55403
UID:e.9128.1134
SEQUENCE:3
DTSTAMP:20260421T185953Z
URL:https://business.acecmn.org/events/details/twins-game-asce-younger-member-acec-emerging-professionals-event-1134
END:VEVENT

END:VCALENDAR
