BEGIN:VCALENDAR
VERSION:2.0
PRODID:-//ChamberMaster//Event Calendar 2.0//EN
METHOD:PUBLISH
X-PUBLISHED-TTL:P3D
REFRESH-INTERVAL:P3D
CALSCALE:GREGORIAN
BEGIN:VEVENT
DTSTART:20151027T123000Z
DTEND:20151027T180000Z
X-MICROSOFT-CDO-ALLDAYEVENT:FALSE
SUMMARY:Vertical Construction Conference
DESCRIPTION:Registration is now open!\n\n"Building Minnesota"\n\nCome and join ACEC/MN members\, clients and vendors as we explore various topics related to vertical construction. This October\, for the first time\, ACEC/MN is coordinating a  conference for everyone involved in the vertical construction field. It will be filled with great educational and networking opportunities.\n\n\n\nThere will be three tracks targeting different levels of experience and responsibilities of attendees. You can review the program here\n\n\n\nCEUs and PDHs will be available.\n\n\n\nThere are many sponsorship opportunities also available for this conference. To see a complete list of opportunities\, click here or contact Melissa (melissa@acecmn.org) for details. Sponsorships will need to be confirmed by September 28.\n\n\n\nIf you have questions\, please contact David Oxley at 952/593-5533 or doxley@acecmn.org.\n\n\n\nComplete sponsor list:\n\nSky Scraper\n\nBurns & McDonnell Engineers-Consultants\n\nDunham\n\nStadium\n\nAmerican Engineering Testing\, Inc.\n\nEricksen Roed & Associates\n\nMeyer Borgman Johnson\n\nPulse Lighting and Controls\n\nTower\n\nHallberg Engineering\, Inc.\n\nMonument\n\nHub International Mountain States LTD.\n\nLegrand\n\nBelimo\n\nSignage\n\nArc Document Solutions\n\nDesign\n\nATS&R
X-ALT-DESC;FMTTYPE=text/html:<strong>Registration is now open!</strong><br />\n<strong>&quot\;Building Minnesota&quot\;</strong><br />\nCome and join ACEC/MN members\, clients and vendors as we explore various topics related to vertical construction. This October\, for the first time\, ACEC/MN is coordinating a&nbsp\; conference for everyone involved in the vertical construction field. It will be filled with great educational and networking opportunities.<br />\n<br />\nThere will be three tracks targeting different levels of experience and responsibilities of attendees. You can review the program <a href="http://cloud.chambermaster.com/userfiles/UserFiles/chambers/9128/File/Vertical_Cons_Conf_2015/ACECMNVerticalConstructionConferenceProgram.pdf">here</a><br />\n<br />\nCEUs and PDHs will be available.<br />\n<br />\nThere are many sponsorship opportunities also available for this conference. To see a complete list of opportunities\, <a href="http://cloud.chambermaster.com/userfiles/UserFiles/chambers/9128/File/Vertical_Cons_Conf_2015/Sponsorshipbreakdown10-12-15.pdf">click here</a> or contact Melissa (<a href="http://melissa@acecmn.org">melissa@acecmn.org</a>) for details. Sponsorships will need to be confirmed by September 28.<br />\n<br />\nIf you have questions\, please contact David Oxley at 952/593-5533 or <a href="http://doxley@acecmn.org">doxley@acecmn.org</a>.<br />\n<br />\nComplete sponsor list:<br />\n<strong>Sky Scraper</strong><br />\n<a href="http://burnsmcd.com/">Burns &amp\; McDonnell Engineers-Consultants</a><br />\n<a href="http://www.dunhamassociates.com/">Dunham</a><br />\n<strong>Stadium</strong><br />\n<a href="http://www.amengtest.com/">American Engineering Testing\, Inc.</a><br />\n<a href="http://www.eraeng.com/">Ericksen Roed &amp\; Associates</a><br />\n<a href="http://www.mbjeng.com/">Meyer Borgman Johnson</a><br />\n<a href="http://www.pulseproducts.com/">Pulse Lighting and Controls</a><br />\n<strong>Tower</strong><br />\n<a href="http://www.hallbergengineering.com/">Hallberg Engineering\, Inc.</a><br />\n<strong>Monument</strong><br />\n<a href="http://www.hubinternational.com/mountain/">Hub International Mountain States LTD.</a><br />\n<a href="http://www.legrand.us/">Legrand</a><br />\n<a href="http://www.belimo.com/english/index.cfm">Belimo</a><br />\n<strong>Signage</strong><br />\n<a href="http://www.e-arc.com/mn/stlouispark">Arc Document Solutions</a><br />\n<strong>Design</strong><br />\n<a href="http://www.atsr.com/">ATS&amp\;R</a><br />\n&nbsp\;
LOCATION:Earle Brown Heritage Center 6155 Earle Brown Dr\, Brooklyn Center\, MN 55430 (763) 569-6300
UID:e.9128.934
SEQUENCE:3
DTSTAMP:20260422T110417Z
URL:https://business.acecmn.org/events/details/vertical-construction-conference-10-27-2015-934
END:VEVENT

END:VCALENDAR
