BEGIN:VCALENDAR
VERSION:2.0
PRODID:-//ChamberMaster//Event Calendar 2.0//EN
METHOD:PUBLISH
X-PUBLISHED-TTL:P3D
REFRESH-INTERVAL:P3D
CALSCALE:GREGORIAN
BEGIN:VEVENT
DTSTART:20150112T173000Z
DTEND:20150112T193000Z
X-MICROSOFT-CDO-ALLDAYEVENT:FALSE
SUMMARY:Where is Minnesota's Economy Going?
DESCRIPTION:Our speaker will discuss the role of public and private investments and its effect on driving our economy. Synopsis\; The theory of economic growth tells us that greater capital not only grows economies but also wages\, particularly when capital rises at a faster rate than employment.  We begin with a history of employment\, wages and output in Minnesota during and after the Great Recession.  We then consider two kinds of investment:  Investment in equipment and structures for private firms and investment in public infrastructure.  How does this cause our growth rate to change in Minnesota?  We conclude with a projection of investment for 2015 and the implication for growth of the Minnesota economy.\n\n\n\nPresenter: Professor King Banaian is a professor in the Department of Economics at St. Cloud State University.  He is currently serving as interim dean of the School of Public Affairs Research Institute at SCSU.  He holds a Ph.D. in economics from the Claremont Graduate School.  He has consulted at central banks and ministries of finance on 3 continents since 1993. His academic fields of expertise are monetary policy and political economy. He is a senior fellow at the Center of the American Experiment. King was state representative in the Minnesota House for District 15B\, 2011-13.  He is also host of the King Banaian Show on Business1570 KYCR broadcast in Minneapolis\, and co-author of the St. Cloud Quarterly Business Report.
X-ALT-DESC;FMTTYPE=text/html:<span style="font-family:arial\,sans-serif\;"><span style="font-size:11.0pt\;">Our speaker will discuss the role of public and private investments and its effect on driving our economy. Synopsis\; The theory of economic growth tells us that greater capital not only grows economies but also wages\, particularly when capital rises at a faster rate than employment.&nbsp\; We begin with a history of employment\, wages and output in Minnesota during and after the Great Recession.&nbsp\; We then consider two kinds of investment:&nbsp\; Investment in equipment and structures for private firms and investment in public infrastructure.&nbsp\; How does this cause our growth rate to change in Minnesota?&nbsp\; We conclude with a projection of investment for 2015 and the implication for growth of the Minnesota economy.<br />\n<br />\n<strong><span style="color:black\;">Presenter:</span></strong> Professor King Banaian is a professor in the Department of Economics at St. Cloud State University.&nbsp\; He is currently serving as interim dean of the School of Public Affairs Research Institute at SCSU.&nbsp\; He holds a Ph.D. in economics from the Claremont Graduate School.&nbsp\; He has consulted at central banks and ministries of finance on 3 continents since 1993. His academic fields of expertise are monetary policy and political economy. He is a senior fellow at the Center of the American Experiment. King was state representative in the Minnesota House for District 15B\, 2011-13.&nbsp\; He is also host of the King Banaian Show on Business1570 KYCR broadcast in Minneapolis\, and co-author of the St. Cloud Quarterly Business Report.</span></span><br />\n<br />\n&nbsp\;
LOCATION:Marriott Minneapolis West 9960 Wayzata Blvd\, Minnetonka\, MN (952/544-4400) (Located on the north frontage road of I-394 between Hwy 169 & Hopkins Crossroad directly across from the ACEC/MN office)
UID:e.9128.896
SEQUENCE:3
DTSTAMP:20260424T053903Z
URL:https://business.acecmn.org/events/details/where-is-minnesota-s-economy-going-01-12-2015-896
END:VEVENT

END:VCALENDAR
