BEGIN:VCALENDAR
VERSION:2.0
PRODID:-//ChamberMaster//Event Calendar 2.0//EN
METHOD:PUBLISH
X-PUBLISHED-TTL:P3D
REFRESH-INTERVAL:P3D
CALSCALE:GREGORIAN
BEGIN:VEVENT
DTSTART:20180423T163000Z
DTEND:20180423T180000Z
X-MICROSOFT-CDO-ALLDAYEVENT:FALSE
SUMMARY:Women In Engineering: Filter Shift: How Effective People SEE the World
DESCRIPTION:What keeps you up at night? Do you feel like you juggle too many things? When you have a busy personal life and your work plate is full\, is it possible to not sacrifice one for the other?Our filters operate in our unconscious\; make decisions for us\; make judgments and determinations about others all without our knowing. And it's even worse: because the vast majority of us are controlled by our filters\, we don't realize how we perpetuate ineffectiveness with each other. Whether an individual or an organization\, our ability to see\, understand\, and consciously shift these filters determines our effectiveness across all interactions and all situations.\n\n \n\nThis session offers a clear way to understand how our unconscious filters work to unknowingly dictate our effectiveness when trying to communicate across differences. Participants will learn how to apply the concepts of filters and frames to begin to perceive\, describe\, and change their approaches. They will learn the three Filter Shift  steps to reduce the negative interference of our own unconscious filters\, better understand the filters of others\, and then respond more effectively.\n\n\n\nPresenter: Sara Taylor is a nationally recognized speaker\, author and consultant. Sara is a thought leader in the area of Diversity and Cultural Competence. Her bestselling book\, Filter Shift: How Effective People SEE the World\, is used by numerous individuals and organizations to increase success and create greater effectiveness in interactions across difference. Sara's company\, deepSEE Consulting  (www.deepSEEConsulting.com) works with local\, national and global clients to take their Diversity and Inclusion work to the next level.\n\n\n\nFilter Shift may be purchased by WIE attendees for only $10!  Only a few books remain. If you would like to purchase a copy prior to the event\, please contact the ACEC/MN office. \n\nThank you to our co-sponsors Barr & Burns & McDonnell for helping offset the cost of the book!
X-ALT-DESC;FMTTYPE=text/html:<span style="color:black\;"><span style="font-family:arial\,sans-serif\;"><span style="font-size:11.0pt\;">What keeps you up at night? Do you feel like you juggle too many things? When you have a busy personal life and your work plate is full\, is it possible to not sacrifice one for the other?</span></span></span><span style="font-family:arial\,sans-serif\;"><span style="font-size:11.0pt\;">Our filters operate in our unconscious\; make decisions for us\; make judgments and determinations about others&mdash\;all without our knowing. And it&rsquo\;s even worse: because the vast majority of us are controlled by our filters\, we don&rsquo\;t realize how we perpetuate ineffectiveness with each other. Whether an individual or an organization\, our ability to see\, understand\, and consciously shift these filters determines our effectiveness across all interactions and all situations.</span></span><br />\n&nbsp\;<br />\n<span style="font-family:arial\,sans-serif\;"><span style="font-size:11.0pt\;">This session offers a clear way to understand how our unconscious filters work to unknowingly dictate our effectiveness when trying to communicate across differences. Participants will learn how to apply the concepts of filters and frames to begin to perceive\, describe\, and change their approaches. They will learn the three Filter Shift&reg\; steps to reduce the negative interference of our own unconscious filters\, better understand the filters of others\, and then respond more effectively.</span></span><br />\n<br />\n<strong><span style="font-family:arial\,sans-serif\;"><span style="font-size:11.0pt\;">Presenter</span></span></strong>: <span style="color:black\;"><span style="font-family:arial\,sans-serif\;"><span style="font-size:11.0pt\;">Sara Taylor is a nationally recognized speaker\, author and consultant. Sara is a thought leader in the area of Diversity and Cultural Competence. </span></span></span><span style="color:black\;"><span style="font-family:arial\,sans-serif\;"><span style="font-size:11.0pt\;">Her bestselling book\,<em> Filter Shift: How Effective People SEE the World\,</em> is used by numerous individuals</span></span></span><span style="font-family:arial\,sans-serif\;"><span style="font-size:11.0pt\;"> and organizations to increase success and create greater effectiveness in interactions across difference. Sara&rsquo\;s company\, deepSEE Consulting &nbsp\;(</span></span><span style="font-family:arial\,sans-serif\;"><span style="font-size:11.0pt\;"><a href="http://www.deepseeconsulting.com%29/">www.deepSEEConsulting.com)</a></span></span><span style="font-family:arial\,sans-serif\;"><span style="font-size:11.0pt\;"> works with local\, national and global clients to take their Diversity and Inclusion work to the next level.</span></span><br />\n<br />\n<strong><em><u><span style="color:black\;"><span style="font-family:arial\,sans-serif\;"><span style="font-size:11.0pt\;">Filter Shift</span></span></span></u></em></strong><strong><u><span style="color:black\;"><span style="font-family:arial\,sans-serif\;"><span style="font-size:11.0pt\;"> may be purchased by WIE attendees for only $10!&nbsp\; Only a few books remain. If you would like to purchase a copy prior to the event\, please contact the ACEC/MN office.&nbsp\;</span></span></span></u></strong><br />\n<span style="color:black\;"><span style="font-family:arial\,sans-serif\;"><span style="font-size:11.0pt\;">Thank you to our co-sponsors Barr &amp\; Burns &amp\; McDonnell for helping offset the cost of the book!</span></span></span><br />\n<br />\n&nbsp\;
LOCATION:WSB University 701 Xenia Avenue South\, Minneapolis\, MN 55416 (763)541-4800
UID:e.9128.1272
SEQUENCE:3
DTSTAMP:20260420T222831Z
URL:https://business.acecmn.org/events/details/women-in-engineering-filter-shift-how-effective-people-see-the-world-1272
END:VEVENT

END:VCALENDAR
