BEGIN:VCALENDAR
VERSION:2.0
PRODID:-//ChamberMaster//Event Calendar 2.0//EN
METHOD:PUBLISH
X-PUBLISHED-TTL:P3D
REFRESH-INTERVAL:P3D
CALSCALE:GREGORIAN
BEGIN:VEVENT
DTSTART:20170320T163000Z
DTEND:20170320T180000Z
X-MICROSOFT-CDO-ALLDAYEVENT:FALSE
SUMMARY:Women In Engineering: Taking Control of Your Financial Future
DESCRIPTION:Today\, women in the U.S. control $5 trillion in investable assets. Additionally\, one-third of all women will live into their 90s. What are you doing to focus on your financial future? No matter where you are in your career - just starting out\, returning to work\, juggling college and/or caregiving expenses\, or preparing to retire - you need to have a plan for your financial future. This presentation will cover the fundamentals you need to know now to ensure you live the life you want well into retirement.\n\n \n\nPresenter: Patrice MacGibbon with Capstone Advisory Group \n\nPatrice has been implementing creative planning strategies for individualToday\, women in the U.S. control $5 trillion in investable assets. Additionally\, one-third of all women will live into their 90s. What are you doing to focus on your financial future? No matter where you are in your career - just starting out\, returning to work\, juggling college and/or caregiving expenses\, or preparing to retire - you need to have a plan for your financial future. This presentation will cover the fundamentals you need to know now to ensure you live the life you want well into retirement.\n\n \n\nPresenter: Patrice MacGibbon with Capstone Advisory Group \n\nPatrice has been implementing creative planning strategies for individuals and retirement plan employees for over twenty years. She has assisted clients in all aspects of financial planning\, risk management and goal achievement.s and retirement plan employees for over twenty years. She has assisted clients in all aspects of financial planning\, risk management and goal achievement.
X-ALT-DESC;FMTTYPE=text/html:<span style="font-family:arial\,sans-serif\;"><span style="font-size:11.0pt\;">Today\, women in the U.S. control $5 trillion in investable assets. Additionally\, one-third of all women will live into their 90s. What are you doing to focus on your financial future? No matter where you are in your career - just starting out\, returning to work\, juggling college and/or caregiving expenses\, or preparing to retire - you need to have a plan for your financial future. This presentation will cover the fundamentals you need to know now to ensure you live the life you want well into retirement.</span></span><br />\n&nbsp\;<br />\n<strong><span style="font-family:arial\,sans-serif\;"><span style="font-size:11.0pt\;">Presenter:</span></span></strong><span style="font-family:arial\,sans-serif\;"><span style="font-size:11.0pt\;"> Patrice MacGibbon with Capstone Advisory Group </span></span><br />\n<span style="font-family:arial\,sans-serif\;"><span style="font-size:11.0pt\;">Patrice has been implementing creative planning strategies for </span></span><span style="font-family:arial\,sans-serif\;"><span style="font-size:11.0pt\;">individual</span></span><span style="font-size:11pt\;"><span style="font-family:arial\,sans-serif\;">Today</span></span><span style="font-size:11pt\;"><span style="font-family:arial\,sans-serif\;">\, women in the U.S. control $5 trillion in investable assets. Additionally\, one-third of all women will live into their 90s. What are you doing to focus on your financial future? No matter where you are in your career - just starting out\, returning to work\, juggling college and/or caregiving expenses\, or preparing to retire - you need to have a plan for your financial future. This presentation will cover the fundamentals you need to know now to ensure you live the life you want well into retirement.</span></span><br />\n&nbsp\;<br />\n<strong><span style="font-family:arial\,sans-serif\;"><span style="font-size:11.0pt\;">Presenter:</span></span></strong><span style="font-family:arial\,sans-serif\;"><span style="font-size:11.0pt\;"> Patrice MacGibbon with Capstone Advisory Group </span></span><br />\n<span style="font-size:11pt\;"><span style="font-family:arial\,sans-serif\;">Patrice has been implementing creative planning strategies for individuals and retirement plan employees for over twenty years. She has assisted clients in all aspects of financial planning\, risk management and goal achievement.</span></span><span style="font-family:arial\,sans-serif\;"><span style="font-size:11.0pt\;">s and retirement plan employees for over twenty years. She has assisted clients in all aspects of financial planning\, risk management and goal achievement.</span></span>
LOCATION:WSB University 701 Xenia Avenue South\, Minneapolis\, MN 55416 (763) 541-4800
UID:e.9128.1132
SEQUENCE:3
DTSTAMP:20260422T015956Z
URL:https://business.acecmn.org/events/details/women-in-engineering-taking-control-of-your-financial-future-1132
END:VEVENT

END:VCALENDAR
