BEGIN:VCALENDAR
VERSION:2.0
PRODID:-//ChamberMaster//Event Calendar 2.0//EN
METHOD:PUBLISH
X-PUBLISHED-TTL:P3D
REFRESH-INTERVAL:P3D
CALSCALE:GREGORIAN
BEGIN:VEVENT
DTSTART:20181119T173000Z
DTEND:20181119T190000Z
X-MICROSOFT-CDO-ALLDAYEVENT:FALSE
SUMMARY:Women in Engineering: The Evolution of Leadership (A Personal Story)
DESCRIPTION:Gayle Roberts recently retired after a 37-year career with Stanley Consultants. Stanley Consultants is a global engineering company with 1\,200 employees serving the energy\, transportation\, and water market sectors. \n\n \n\nGayle will discuss the evolution of leadership by sharing her personal story\, a path that started as a chemical engineer and ultimately led her to the highest level of the organization as Chair\, President\, and CEO. She will also discuss the leadership attributes needed today and why women have the qualities to be great leaders in our organizations. \n\n \n\nPresenter: Ms. Roberts is a senior executive with over 35 years of experience in the consulting engineering industry. She is currently the Chair of Stanley Consultants' Board of Directors\, and its parent company\, SC Companies. Gayle leads with emphasis in strategic planning and organizational development to propel enterprise growth\, and drive performance and profitability to create shareholder value. Ms. Roberts is a longtime champion of women in engineering and regularly mentors young women to consider the field as an exciting career choice that holds many opportunities.
X-ALT-DESC;FMTTYPE=text/html:<span style="font-family:arial\,sans-serif\;"><span style="font-size:11.0pt\;">Gayle Roberts recently retired after a 37-year career with Stanley Consultants. Stanley Consultants is a global engineering company with 1\,200 employees serving the energy\, transportation\, and water market sectors. </span></span><br />\n&nbsp\;<br />\n<span style="font-family:arial\,sans-serif\;"><span style="font-size:11.0pt\;">Gayle will discuss the evolution of leadership by sharing her personal story\, a path that started as a chemical engineer and ultimately led her to the highest level of the organization as Chair\, President\, and CEO. She will also discuss the leadership attributes needed today and why women have the qualities to be great leaders in our organizations. </span></span><br />\n&nbsp\;<br />\n<strong><span style="font-family:arial\,sans-serif\;"><span style="font-size:11.0pt\;">Presenter</span></span></strong><span style="font-family:arial\,sans-serif\;"><span style="font-size:11.0pt\;">: Ms. Roberts is a senior executive with over 35 years of experience in the consulting engineering industry. She is currently the Chair of Stanley Consultants&rsquo\; Board of Directors\, and its parent company\, SC Companies. Gayle leads with emphasis in strategic planning and organizational development to propel enterprise growth\, and drive performance and profitability to create shareholder value. Ms. Roberts is a longtime champion of women in engineering and regularly mentors young women to consider the field as an exciting career choice that holds many opportunities.</span></span>
LOCATION:Barr Engineering Co. 4300 MarketPointe Drive\, Suite 200 | Minneapolis\, Minnesota 55435 | 952.832.2600
UID:e.9128.1317
SEQUENCE:3
DTSTAMP:20260420T064208Z
URL:https://business.acecmn.org/events/details/women-in-engineering-the-evolution-of-leadership-a-personal-story-1317
END:VEVENT

END:VCALENDAR
