BEGIN:VCALENDAR
VERSION:2.0
PRODID:-//ChamberMaster//Event Calendar 2.0//EN
METHOD:PUBLISH
X-PUBLISHED-TTL:P3D
REFRESH-INTERVAL:P3D
CALSCALE:GREGORIAN
BEGIN:VEVENT
DTSTART:20190311T163000Z
DTEND:20190311T180000Z
X-MICROSOFT-CDO-ALLDAYEVENT:FALSE
SUMMARY:Women In Engineering: Whose Idea is it Anyway? Intellectual Property Issues for Engineers
DESCRIPTION:Whose Idea is it Anyway? Intellectual Property Issues for Engineers\n\n	Learn about intellectual property law and issues common for design professionals \n	Learn to identify I.P. issues arising in social media\, marketing\, project development \n	Learn guidelines for referencing projects\, experience\, without risk of I.P. violations \n	Learn which ethics provisions relate to I.P. issues \n\n \n\nPresenter: Attorney Kristine A. Kubes is principal of Kubes Law Office\, PLLC\, serving design and construction professionals through all stages of a project   from contracts to payment issues\, liens\, and defense of professional liability claims. She is a litigator admitted to argue cases before the U.S. Supreme Court. She is a mediator\, and educator on construction\, design\, and ethics issues. Kristine is the incoming National Chair of the American Bar Association Forum on Construction Law. She is a former Board Member of ACEC/MN\, and served as a public member on the MN Board of AELSLAGID from 2006-2013\, during which she served two terms as Board Chair from 2009-2011.
X-ALT-DESC;FMTTYPE=text/html:<br />\n<span style="font-size:14px\;"><strong><span style="color:black\;"><span style="font-family:arial\,sans-serif\;">Whose Idea is it Anyway? Intellectual Property Issues for Engineers</span></span></strong></span>\n<ul>\n	<li><span style="color:black\;"><span style="font-family:arial\,sans-serif\;"><span style="font-size:11.0pt\;">Learn about intellectual property law and issues common for design professionals </span></span></span></li>\n	<li><span style="color:black\;"><span style="font-family:arial\,sans-serif\;"><span style="font-size:11.0pt\;">Learn to identify I.P. issues arising in social media\, marketing\, project development </span></span></span></li>\n	<li><span style="color:black\;"><span style="font-family:arial\,sans-serif\;"><span style="font-size:11.0pt\;">Learn guidelines for referencing projects\, experience\, without risk of I.P. violations </span></span></span></li>\n	<li><span style="color:black\;"><span style="font-family:arial\,sans-serif\;"><span style="font-size:11.0pt\;">Learn which ethics provisions relate to I.P. issues </span></span></span></li>\n</ul>\n&nbsp\;<br />\n<strong><span style="font-family:arial\,sans-serif\;"><span style="font-size:11.0pt\;">Presenter</span></span></strong><span style="font-family:arial\,sans-serif\;"><span style="font-size:11.0pt\;">: Attorney Kristine A. Kubes is principal of Kubes Law Office\, PLLC\, serving design and construction professionals through all stages of a project &ndash\; from contracts to payment issues\, liens\, and defense of professional liability claims. She is a litigator admitted to argue cases before the U.S. Supreme Court. She is a mediator\, and educator on construction\, design\, and ethics issues. Kristine is the incoming National Chair of the American Bar Association Forum on Construction Law. She is a former Board Member of ACEC/MN\, and served as a public member on the MN Board of AELSLAGID from 2006-2013\, during which she served two terms as Board Chair from 2009-2011. </span></span>
LOCATION:Barr 4300 MarketPointe Drive\, Suite 200 Minneapolis\, Minnesota 55435 952.832.2600
UID:e.9128.1334
SEQUENCE:3
DTSTAMP:20260419T232420Z
URL:https://business.acecmn.org/events/details/women-in-engineering-whose-idea-is-it-anyway-intellectual-property-issues-for-engineers-1334
END:VEVENT

END:VCALENDAR
